BEGIN:VCALENDAR
VERSION:2.0
PRODID:-//pretix//pretix.eu//
BEGIN:VTIMEZONE
TZID:Europe/Berlin
BEGIN:STANDARD
DTSTART:20001029T040000
RRULE:FREQ=YEARLY;BYDAY=-1SU;BYMONTH=10
TZNAME:CET
TZOFFSETFROM:+0200
TZOFFSETTO:+0100
END:STANDARD
BEGIN:DAYLIGHT
DTSTART:20000326T030000
RRULE:FREQ=YEARLY;BYDAY=-1SU;BYMONTH=3
TZNAME:CEST
TZOFFSETFROM:+0100
TZOFFSETTO:+0200
END:DAYLIGHT
END:VTIMEZONE
BEGIN:VEVENT
UID:pretix-mv-beuren-vt-wiesngaudi-4128617@mv-beuren.vereinsticket.de
DTSTART;TZID=Europe/Berlin:20240720T173000
DTEND;TZID=Europe/Berlin:20240720T233000
DESCRIPTION:Tickets: https://mv-beuren.vereinsticket.de/vt-wiesngaudi/41286
 17/\nVeranstalter: Musikverein Beuren e.V.
DTSTAMP:20260420T220945Z
LOCATION:Festplatz Beuren (Vorplatz Turn- und Festhalle)\, Goethestraße\, 
 72660 Beuren
SUMMARY:Wiesn Gaudi - mit der Oktoberfestkapelle Schwarzfischer
END:VEVENT
END:VCALENDAR
